BEGIN:VCALENDAR
VERSION:2.0
PRODID:-//Freie Wähler Vörstetten - ECPv4.2.7//NONSGML v1.0//EN
CALSCALE:GREGORIAN
METHOD:PUBLISH
X-WR-CALNAME:Freie Wähler Vörstetten
X-ORIGINAL-URL:http://freiewaehlervoerstetten.de
X-WR-CALDESC:Events for Freie Wähler Vörstetten
BEGIN:VEVENT
DTSTART;TZID=UTC+2:20190702T190000
DTEND;TZID=UTC+2:20190702T220000
DTSTAMP:20260424T112805
CREATED:20190630T152122
LAST-MODIFIED:20190630T152122
UID:516-1562094000-1562104800@freiewaehlervoerstetten.de
SUMMARY:Stammtisch
DESCRIPTION:
URL:http://freiewaehlervoerstetten.de/event/stammtisch-20/
END:VEVENT
END:VCALENDAR